View In:
ArcGIS JavaScript
Portal
ArcGIS Earth
Service Description: Meteogalicia/Radar
Name: Meteogalicia/Radar
Description:
Single Fused Map Cache: false
Extent:
XMin: -11.003606955479768
YMin: 40.902343657725396
XMax: -6.118563224003083
YMax: 44.43779808970203
Spatial Reference: 4326
(4326)
LatestVCSWkid(0)
Initial Extent:
XMin: -11.003606955479768
YMin: 40.902343657725396
XMax: -6.118563224003083
YMax: 44.43779808970203
Spatial Reference: 4326
(4326)
LatestVCSWkid(0)
Full Extent:
XMin: -11.003606955479768
YMin: 40.902343657725396
XMax: -6.118563224003083
YMax: 44.43779808970203
Spatial Reference: 4326
(4326)
LatestVCSWkid(0)
Time Info:
Start Time Field: StdTime
End Time Field: StdTime
Time Extent:
[2022/12/09 07:00:00 UTC, 2023/11/16 10:15:00 UTC]
Time Reference:
N/A
Pixel Size X: 1.5862591672544113E-4
Pixel Size Y: 1.5862591672544113E-4
Band Count: 1
Pixel Type: F32
RasterFunction Infos: {"rasterFunctionInfos": [
{
"name": "Mascara_NoData_Meteogalicia_",
"description": "A raster function template.",
"help": ""
},
{
"name": "None",
"description": "",
"help": ""
}
]}
Mensuration Capabilities: Basic
Inspection Capabilities:
Has Histograms: true
Has Colormap: false
Has Multi Dimensions : true
Rendering Rule:
Min Scale: 0
Max Scale: 0
Resampling: false
Copyright Text:
Service Data Type: esriImageServiceDataTypeScientific
Min Values: -32
Max Values: 95.5
Mean Values: -27.281765495084432
Standard Deviation Values: 17.509327862274784
Object ID Field:
Fields:
None
Default Mosaic Method: Center
Allowed Mosaic Methods:
SortField:
SortValue: null
Mosaic Operator: First
Default Compression Quality: 75
Default Resampling Method: Bilinear
Max Record Count: null
Max Image Height: 4100
Max Image Width: 15000
Max Download Image Count: null
Max Mosaic Image Count: null
Allow Raster Function: true
Allow Copy: true
Allow Analysis: true
Allow Compute TiePoints: false
Supports Statistics: false
Supports Advanced Queries: false
Use StandardizedQueries: true
Raster Type Infos:
Name: Raster Dataset
Description: Supports all ArcGIS Raster Datasets
Help:
Has Raster Attribute Table: false
Edit Fields Info: null
Ownership Based AccessControl For Rasters: null
Child Resources:
Info
Histograms
Statistics
Key Properties
Legend
Raster Function Infos
Multidimensional Info
Slices
Supported Operations:
Export Image
Identify
Measure
Compute Histograms
Compute Statistics Histograms
Get Samples
Compute Class Statistics
Query Boundary
Compute Pixel Location
Compute Angles
Validate
Project