{
 "currentVersion": 11.3,
 "serviceDescription": "Meteogalicia/Radar",
 "name": "Meteogalicia/Radar",
 "description": "",
 "extent": {
  "xmin": -11.003606955479768,
  "ymin": 40.902343657725396,
  "xmax": -6.118563224003083,
  "ymax": 44.43779808970203,
  "spatialReference": {
   "wkid": 4326,
   "latestWkid": 4326
  }
 },
 "initialExtent": {
  "xmin": -11.003606955479768,
  "ymin": 40.902343657725396,
  "xmax": -6.118563224003083,
  "ymax": 44.43779808970203,
  "spatialReference": {
   "wkid": 4326,
   "latestWkid": 4326
  }
 },
 "fullExtent": {
  "xmin": -11.003606955479768,
  "ymin": 40.902343657725396,
  "xmax": -6.118563224003083,
  "ymax": 44.43779808970203,
  "spatialReference": {
   "wkid": 4326,
   "latestWkid": 4326
  }
 },
 "sortableFields": "",
 "bandCount": 1,
 "pixelType": "F32",
 "minValues": [
  -32
 ],
 "maxValues": [
  95.5
 ],
 "meanValues": [
  -27.281765495084432
 ],
 "stdvValues": [
  17.509327862274784
 ],
 "hasMultidimensions": true,
 "timeInfo": {
  "startTimeField": "StdTime",
  "endTimeField": "StdTime",
  "timeExtent": [
   1670569200000,
   1700129700000
  ],
  "timeReference": null,
  "defaultTimeInterval": 5,
  "defaultTimeIntervalUnits": "esriTimeUnitsMinutes"
 },
 "pixelSizeX": 1.5862591672544113E-4,
 "pixelSizeY": 1.5862591672544113E-4,
 "meanPixelSize": 17.658156276492324,
 "datasetFormat": "Cache/LERC2D",
 "uncompressedSize": 2745524992,
 "blockWidth": 256,
 "blockHeight": 256,
 "compressionType": "LERC2D",
 "bandNames": [
  "Band_1"
 ],
 "allowCopy": true,
 "allowAnalysis": true,
 "itemAccess": false,
 "defaultVariable": "",
 "inspectionCapabilities": "",
 "noDataValue": -99,
 "noDataValues": [
  -99
 ],
 "minPixelSize": 0,
 "maxPixelSize": 0,
 "copyrightText": "",
 "serviceDataType": "esriImageServiceDataTypeScientific",
 "serviceSourceType": "esriImageServiceSourceTypeDataset",
 "objectIdField": "",
 "fields": [],
 "capabilities": "Mensuration,Image,Metadata",
 "defaultMosaicMethod": "Center",
 "allowedMosaicMethods": "",
 "sortField": "",
 "sortValue": null,
 "sortAscending": true,
 "mosaicOperator": "First",
 "defaultCompressionQuality": 75,
 "defaultResamplingMethod": "Bilinear",
 "maxImageHeight": 4100,
 "maxImageWidth": 15000,
 "allowRasterFunction": true,
 "rasterFunctionInfos": [
  {
   "name": "Mascara_NoData_Meteogalicia_",
   "description": "A raster function template.",
   "help": ""
  },
  {
   "name": "None",
   "description": "",
   "help": ""
  }
 ],
 "rasterTypeInfos": [
  {
   "name": "Raster Dataset",
   "description": "Supports all ArcGIS Raster Datasets",
   "help": ""
  }
 ],
 "mensurationCapabilities": "Basic",
 "hasHistograms": true,
 "hasColormap": false,
 "hasRasterAttributeTable": false,
 "minScale": 0,
 "maxScale": 0,
 "exportTilesAllowed": false,
 "supportsStatistics": false,
 "supportsAdvancedQueries": false,
 "editFieldsInfo": null,
 "ownershipBasedAccessControlForRasters": null,
 "allowComputeTiePoints": false,
 "useStandardizedQueries": true,
 "advancedQueryCapabilities": {
  "useStandardizedQueries": true,
  "supportsStatistics": false,
  "supportsOrderBy": false,
  "supportsDistinct": false,
  "supportsPagination": false
 },
 "spatialReference": {
  "wkid": 4326,
  "latestWkid": 4326
 },
 "resampling": false
}
