View In:
ArcGIS JavaScript
Portal
ArcGIS Earth
Service Description: Meteogalicia/Viento_FlowRender
Name: Meteogalicia/Viento_FlowRender
Description:
Single Fused Map Cache: false
Extent:
XMin: -2.0
YMin: -2.0
XMax: 466.0
YMax: 502.0
Spatial Reference: 0
(0)
LatestVCSWkid(0)
Initial Extent:
XMin: -2.0
YMin: -2.0
XMax: 466.0
YMax: 502.0
Spatial Reference: 0
(0)
LatestVCSWkid(0)
Full Extent:
XMin: -2.0
YMin: -2.0
XMax: 466.0
YMax: 502.0
Spatial Reference: 0
(0)
LatestVCSWkid(0)
Time Info:
Start Time Field: StdTime
End Time Field: StdTime
Time Extent:
[2023/01/23 01:00:00 UTC, 2023/01/27 00:00:00 UTC]
Time Reference:
N/A
Pixel Size X: 4.0
Pixel Size Y: 4.0
Band Count: 2
Pixel Type: F32
RasterFunction Infos: {"rasterFunctionInfos": [{
"name": "None",
"description": "",
"help": ""
}]}
Mensuration Capabilities: Basic
Inspection Capabilities:
Has Histograms: true
Has Colormap: false
Has Multi Dimensions : true
Rendering Rule:
Min Scale: 0
Max Scale: 0
Copyright Text:
Service Data Type: esriImageServiceDataTypeVector-MagDir
Min Values: 0.0022019334137439728, 5.464151035994291E-5
Max Values: 20.822473526000977, 359.99713134765625
Mean Values: 7.355616291131675, 76.64699511652792
Standard Deviation Values: 3.5051873359782335, 98.23272008158686
Object ID Field:
Fields:
None
Default Mosaic Method: Center
Allowed Mosaic Methods:
SortField:
SortValue: null
Mosaic Operator: First
Default Compression Quality: 75
Default Resampling Method: Bilinear
Max Record Count: null
Max Image Height: 4100
Max Image Width: 15000
Max Download Image Count: null
Max Mosaic Image Count: null
Allow Raster Function: true
Allow Copy: true
Allow Analysis: true
Allow Compute TiePoints: false
Supports Statistics: false
Supports Advanced Queries: false
Use StandardizedQueries: true
Raster Type Infos:
Name: Raster Dataset
Description: Supports all ArcGIS Raster Datasets
Help:
Has Raster Attribute Table: false
Edit Fields Info: null
Ownership Based AccessControl For Rasters: null
Child Resources:
Info
Histograms
Statistics
Key Properties
Legend
Raster Function Infos
Multidimensional Info
Slices
Supported Operations:
Export Image
Identify
Measure
Compute Histograms
Compute Statistics Histograms
Get Samples
Compute Class Statistics
Query Boundary
Compute Pixel Location
Compute Angles
Validate
Project