{
 "currentVersion": 11.3,
 "serviceDescription": "RenderViento",
 "name": "RenderViento",
 "description": "",
 "extent": {
  "xmin": -2,
  "ymin": -2,
  "xmax": 466,
  "ymax": 502,
  "spatialReference": {
   "wkt2": "PROJCRS[\"Lambert_Conformal_Conic_2SP\",BASEGEOGCRS[\"GCS_WGS_1984\",DATUM[\"D_WGS_1984\",ELLIPSOID[\"WGS_1984\",6378137.0,298.257223563,LENGTHUNIT[\"Meter\",1.0]]],PRIMEM[\"Greenwich\",0.0,ANGLEUNIT[\"Degree\",0.0174532925199433]],CS[ellipsoidal,2],ANGLEUNIT[\"Degree\",0.0174532925199433]],CONVERSION[\"Lambert_Conformal_Conic\",METHOD[\"Lambert_Conformal_Conic\"],PARAMETER[\"false_easting\",-241.44951,LENGTHUNIT[\"Kilometer\",1000.0]],PARAMETER[\"false_northing\",-4.10447,LENGTHUNIT[\"Kilometer\",1000.0]],PARAMETER[\"central_meridian\",-14.10000038146973,ANGLEUNIT[\"Degree\",0.0174532925199433]],PARAMETER[\"standard_parallel_1\",43.0,ANGLEUNIT[\"Degree\",0.0174532925199433]],PARAMETER[\"standard_parallel_2\",43.0,ANGLEUNIT[\"Degree\",0.0174532925199433]],PARAMETER[\"latitude_of_origin\",40.71900177001953,ANGLEUNIT[\"Degree\",0.0174532925199433]]],CS[Cartesian,2],AXIS[\"Easting (X)\",east,ORDER[1]],AXIS[\"Northing (Y)\",north,ORDER[2]],LENGTHUNIT[\"Kilometer\",1000.0]]",
   "wkt": "PROJCS[\"Lambert_Conformal_Conic_2SP\",GEOGCS[\"GCS_WGS_1984\",DATUM[\"D_WGS_1984\",SPHEROID[\"WGS_1984\",6378137.0,298.257223563]],PRIMEM[\"Greenwich\",0.0],UNIT[\"Degree\",0.0174532925199433]],PROJECTION[\"Lambert_Conformal_Conic\"],PARAMETER[\"false_easting\",-241.44951],PARAMETER[\"false_northing\",-4.10447],PARAMETER[\"central_meridian\",-14.10000038146973],PARAMETER[\"standard_parallel_1\",43.0],PARAMETER[\"standard_parallel_2\",43.0],PARAMETER[\"latitude_of_origin\",40.71900177001953],UNIT[\"Kilometer\",1000.0]]"
  }
 },
 "initialExtent": {
  "xmin": -2,
  "ymin": -2,
  "xmax": 466,
  "ymax": 502,
  "spatialReference": {
   "wkt2": "PROJCRS[\"Lambert_Conformal_Conic_2SP\",BASEGEOGCRS[\"GCS_WGS_1984\",DATUM[\"D_WGS_1984\",ELLIPSOID[\"WGS_1984\",6378137.0,298.257223563,LENGTHUNIT[\"Meter\",1.0]]],PRIMEM[\"Greenwich\",0.0,ANGLEUNIT[\"Degree\",0.0174532925199433]],CS[ellipsoidal,2],ANGLEUNIT[\"Degree\",0.0174532925199433]],CONVERSION[\"Lambert_Conformal_Conic\",METHOD[\"Lambert_Conformal_Conic\"],PARAMETER[\"false_easting\",-241.44951,LENGTHUNIT[\"Kilometer\",1000.0]],PARAMETER[\"false_northing\",-4.10447,LENGTHUNIT[\"Kilometer\",1000.0]],PARAMETER[\"central_meridian\",-14.10000038146973,ANGLEUNIT[\"Degree\",0.0174532925199433]],PARAMETER[\"standard_parallel_1\",43.0,ANGLEUNIT[\"Degree\",0.0174532925199433]],PARAMETER[\"standard_parallel_2\",43.0,ANGLEUNIT[\"Degree\",0.0174532925199433]],PARAMETER[\"latitude_of_origin\",40.71900177001953,ANGLEUNIT[\"Degree\",0.0174532925199433]]],CS[Cartesian,2],AXIS[\"Easting (X)\",east,ORDER[1]],AXIS[\"Northing (Y)\",north,ORDER[2]],LENGTHUNIT[\"Kilometer\",1000.0]]",
   "wkt": "PROJCS[\"Lambert_Conformal_Conic_2SP\",GEOGCS[\"GCS_WGS_1984\",DATUM[\"D_WGS_1984\",SPHEROID[\"WGS_1984\",6378137.0,298.257223563]],PRIMEM[\"Greenwich\",0.0],UNIT[\"Degree\",0.0174532925199433]],PROJECTION[\"Lambert_Conformal_Conic\"],PARAMETER[\"false_easting\",-241.44951],PARAMETER[\"false_northing\",-4.10447],PARAMETER[\"central_meridian\",-14.10000038146973],PARAMETER[\"standard_parallel_1\",43.0],PARAMETER[\"standard_parallel_2\",43.0],PARAMETER[\"latitude_of_origin\",40.71900177001953],UNIT[\"Kilometer\",1000.0]]"
  }
 },
 "fullExtent": {
  "xmin": -2,
  "ymin": -2,
  "xmax": 466,
  "ymax": 502,
  "spatialReference": {
   "wkt2": "PROJCRS[\"Lambert_Conformal_Conic_2SP\",BASEGEOGCRS[\"GCS_WGS_1984\",DATUM[\"D_WGS_1984\",ELLIPSOID[\"WGS_1984\",6378137.0,298.257223563,LENGTHUNIT[\"Meter\",1.0]]],PRIMEM[\"Greenwich\",0.0,ANGLEUNIT[\"Degree\",0.0174532925199433]],CS[ellipsoidal,2],ANGLEUNIT[\"Degree\",0.0174532925199433]],CONVERSION[\"Lambert_Conformal_Conic\",METHOD[\"Lambert_Conformal_Conic\"],PARAMETER[\"false_easting\",-241.44951,LENGTHUNIT[\"Kilometer\",1000.0]],PARAMETER[\"false_northing\",-4.10447,LENGTHUNIT[\"Kilometer\",1000.0]],PARAMETER[\"central_meridian\",-14.10000038146973,ANGLEUNIT[\"Degree\",0.0174532925199433]],PARAMETER[\"standard_parallel_1\",43.0,ANGLEUNIT[\"Degree\",0.0174532925199433]],PARAMETER[\"standard_parallel_2\",43.0,ANGLEUNIT[\"Degree\",0.0174532925199433]],PARAMETER[\"latitude_of_origin\",40.71900177001953,ANGLEUNIT[\"Degree\",0.0174532925199433]]],CS[Cartesian,2],AXIS[\"Easting (X)\",east,ORDER[1]],AXIS[\"Northing (Y)\",north,ORDER[2]],LENGTHUNIT[\"Kilometer\",1000.0]]",
   "wkt": "PROJCS[\"Lambert_Conformal_Conic_2SP\",GEOGCS[\"GCS_WGS_1984\",DATUM[\"D_WGS_1984\",SPHEROID[\"WGS_1984\",6378137.0,298.257223563]],PRIMEM[\"Greenwich\",0.0],UNIT[\"Degree\",0.0174532925199433]],PROJECTION[\"Lambert_Conformal_Conic\"],PARAMETER[\"false_easting\",-241.44951],PARAMETER[\"false_northing\",-4.10447],PARAMETER[\"central_meridian\",-14.10000038146973],PARAMETER[\"standard_parallel_1\",43.0],PARAMETER[\"standard_parallel_2\",43.0],PARAMETER[\"latitude_of_origin\",40.71900177001953],UNIT[\"Kilometer\",1000.0]]"
  }
 },
 "sortableFields": "",
 "bandCount": 1,
 "pixelType": "F32",
 "minValues": [
  5.464151035994291E-5
 ],
 "maxValues": [
  359.99713134765625
 ],
 "meanValues": [
  76.64699511652792
 ],
 "stdvValues": [
  98.23270272882006
 ],
 "hasMultidimensions": true,
 "timeInfo": {
  "startTimeField": "StdTime",
  "endTimeField": "StdTime",
  "timeExtent": [
   1674435600000,
   1674777600000
  ],
  "timeReference": null,
  "defaultTimeInterval": 1,
  "defaultTimeIntervalUnits": "esriTimeUnitsHours"
 },
 "pixelSizeX": 4,
 "pixelSizeY": 4,
 "meanPixelSize": 4000,
 "datasetFormat": "Cache/LERC2D",
 "uncompressedSize": 58968,
 "blockWidth": 256,
 "blockHeight": 256,
 "compressionType": "LERC2D",
 "bandNames": [
  "Band_1"
 ],
 "allowCopy": true,
 "allowAnalysis": true,
 "itemAccess": false,
 "defaultVariable": "",
 "inspectionCapabilities": "",
 "minPixelSize": 0,
 "maxPixelSize": 0,
 "copyrightText": "",
 "serviceDataType": "esriImageServiceDataTypeScientific",
 "serviceSourceType": "esriImageServiceSourceTypeDataset",
 "objectIdField": "",
 "fields": [],
 "capabilities": "Mensuration,Image,Metadata",
 "defaultMosaicMethod": "Center",
 "allowedMosaicMethods": "",
 "sortField": "",
 "sortValue": null,
 "sortAscending": true,
 "mosaicOperator": "First",
 "defaultCompressionQuality": 75,
 "defaultResamplingMethod": "Bilinear",
 "maxImageHeight": 4100,
 "maxImageWidth": 15000,
 "allowRasterFunction": true,
 "rasterFunctionInfos": [
  {
   "name": "Mascara_NoData_Meteogalicia_",
   "description": "A raster function template.",
   "help": ""
  },
  {
   "name": "None",
   "description": "",
   "help": ""
  }
 ],
 "rasterTypeInfos": [
  {
   "name": "Raster Dataset",
   "description": "Supports all ArcGIS Raster Datasets",
   "help": ""
  }
 ],
 "mensurationCapabilities": "Basic",
 "hasHistograms": true,
 "hasColormap": false,
 "hasRasterAttributeTable": false,
 "minScale": 0,
 "maxScale": 0,
 "exportTilesAllowed": false,
 "supportsStatistics": false,
 "supportsAdvancedQueries": false,
 "editFieldsInfo": null,
 "ownershipBasedAccessControlForRasters": null,
 "allowComputeTiePoints": false,
 "useStandardizedQueries": true,
 "transposeInfo": {
  "cols": 64,
  "rows": 64
 },
 "advancedQueryCapabilities": {
  "useStandardizedQueries": true,
  "supportsStatistics": false,
  "supportsOrderBy": false,
  "supportsDistinct": false,
  "supportsPagination": false
 },
 "spatialReference": {
  "wkt2": "PROJCRS[\"Lambert_Conformal_Conic_2SP\",BASEGEOGCRS[\"GCS_WGS_1984\",DATUM[\"D_WGS_1984\",ELLIPSOID[\"WGS_1984\",6378137.0,298.257223563,LENGTHUNIT[\"Meter\",1.0]]],PRIMEM[\"Greenwich\",0.0,ANGLEUNIT[\"Degree\",0.0174532925199433]],CS[ellipsoidal,2],ANGLEUNIT[\"Degree\",0.0174532925199433]],CONVERSION[\"Lambert_Conformal_Conic\",METHOD[\"Lambert_Conformal_Conic\"],PARAMETER[\"false_easting\",-241.44951,LENGTHUNIT[\"Kilometer\",1000.0]],PARAMETER[\"false_northing\",-4.10447,LENGTHUNIT[\"Kilometer\",1000.0]],PARAMETER[\"central_meridian\",-14.10000038146973,ANGLEUNIT[\"Degree\",0.0174532925199433]],PARAMETER[\"standard_parallel_1\",43.0,ANGLEUNIT[\"Degree\",0.0174532925199433]],PARAMETER[\"standard_parallel_2\",43.0,ANGLEUNIT[\"Degree\",0.0174532925199433]],PARAMETER[\"latitude_of_origin\",40.71900177001953,ANGLEUNIT[\"Degree\",0.0174532925199433]]],CS[Cartesian,2],AXIS[\"Easting (X)\",east,ORDER[1]],AXIS[\"Northing (Y)\",north,ORDER[2]],LENGTHUNIT[\"Kilometer\",1000.0]]",
  "wkt": "PROJCS[\"Lambert_Conformal_Conic_2SP\",GEOGCS[\"GCS_WGS_1984\",DATUM[\"D_WGS_1984\",SPHEROID[\"WGS_1984\",6378137.0,298.257223563]],PRIMEM[\"Greenwich\",0.0],UNIT[\"Degree\",0.0174532925199433]],PROJECTION[\"Lambert_Conformal_Conic\"],PARAMETER[\"false_easting\",-241.44951],PARAMETER[\"false_northing\",-4.10447],PARAMETER[\"central_meridian\",-14.10000038146973],PARAMETER[\"standard_parallel_1\",43.0],PARAMETER[\"standard_parallel_2\",43.0],PARAMETER[\"latitude_of_origin\",40.71900177001953],UNIT[\"Kilometer\",1000.0]]"
 },
 "resampling": false
}
